OziExplorer Map Data File Version 2.2
Australia2013.jpg
Australia2013.jpg
1 ,Map Code,
WGS 84,, 0.0000, 0.0000,WGS 84
Reserved 1
Reserved 2
Magnetic Variation,,,E
Map Projection,Mercator,PolyCal,No,AutoCalOnly,No,BSBUseWPX,No
Point01,xy, 0, 0,in, deg, 9, 37.5073243007176,S, 128, 47.89306640625,E, grid, , , ,N
Point02,xy, 9249, 12145,in, deg, 39, 28.4619284916725,S, 154, 12.081298828125,E, grid, , , ,N
Point03,xy, 0, 12145,in, deg, 39, 28.4619284916725,S, 128, 47.89306640625,E, grid, , , ,N
Point04,xy, 9249, 0,in, deg, 9, 37.5073243007176,S, 154, 12.081298828125,E, grid, , , ,N
Point05,xy, 4624, 6072,in, deg, 25, 28.0844398498887,S, 141, 30.069580078125,E, grid, , , ,N
Point06,xy, 4624, 0,in, deg, 9, 37.5073243007176,S, 141, 30.069580078125,E, grid, , , ,N
Point07,xy, 0, 6072,in, deg, 25, 28.0844398498887,S, 128, 47.89306640625,E, grid, , , ,N
Point08,xy, 9249, 6072,in, deg, 25, 28.0844398498887,S, 154, 12.081298828125,E, grid, , , ,N
Point09,xy, 4624, 12145,in, deg, 39, 28.4619284916725,S, 141, 30.069580078125,E, grid, , , ,N
Point10,xy, , ,in, deg, , ,N, , ,W, grid, , , ,N
Point11,xy, , ,in, deg, , ,N, , ,W, grid, , , ,N
Point12,xy, , ,in, deg, , ,N, , ,W, grid, , , ,N
Point13,xy, , ,in, deg, , ,N, , ,W, grid, , , ,N
Point14,xy, , ,in, deg, , ,N, , ,W, grid, , , ,N
Point15,xy, , ,in, deg, , ,N, , ,W, grid, , , ,N
Point16,xy, , ,in, deg, , ,N, , ,W, grid, , , ,N
Point17,xy, , ,in, deg, , ,N, , ,W, grid, , , ,N
Point18,xy, , ,in, deg, , ,N, , ,W, grid, , , ,N
Point19,xy, , ,in, deg, , ,N, , ,W, grid, , , ,N
Point20,xy, , ,in, deg, , ,N, , ,W, grid, , , ,N
Point21,xy, , ,in, deg, , ,N, , ,W, grid, , , ,N
Point22,xy, , ,in, deg, , ,N, , ,W, grid, , , ,N
Point23,xy, , ,in, deg, , ,N, , ,W, grid, , , ,N
Point24,xy, , ,in, deg, , ,N, , ,W, grid, , , ,N
Point25,xy, , ,in, deg, , ,N, , ,W, grid, , , ,N
Point26,xy, , ,in, deg, , ,N, , ,W, grid, , , ,N
Point27,xy, , ,in, deg, , ,N, , ,W, grid, , , ,N
Point28,xy, , ,in, deg, , ,N, , ,W, grid, , , ,N
Point29,xy, , ,in, deg, , ,N, , ,W, grid, , , ,N
Point30,xy, , ,in, deg, , ,N, , ,W, grid, , , ,N
Projection Setup,,,,,,,,,,
Map Feature = MF ; Map Comment = MC These follow if they exist
Track File = TF These follow if they exist
Moving Map Parameters = MM? These follow if they exist
MM0,Yes
MMPNUM,4
MMPXY,1,0,0
MMPXY,2,9249,0
MMPXY,3,9249,12145
MMPXY,4,0,12145
MMPLL,1, 128.798217773438, -9.62512207167863
MMPLL,2, 154.201354980469, -9.62512207167863
MMPLL,3, 154.201354980469, -39.4743654748612
MMPLL,4, 128.798217773438, -39.4743654748612
MM1B,276.037049714399
MOP,Map Open Position,0,0
IWH,Map Image Width/Height,9249,12145
