OziExplorer Map Data File Version 2.2
Baliem14r
Baliem14r.jpg
1 ,Map Code,
WGS 84,, 0.0000, 0.0000,WGS 84
Reserved 1
Reserved 2
Magnetic Variation,,,E
Map Projection,Mercator,PolyCal,No,AutoCalOnly,No,BSBUseWPX,No
Point01,xy, 0, 0,in, deg, 3, 51.3620137640679,S, 138, 33.8214111328125,E, grid, , , ,N
Point02,xy, 3480, 2792,in, deg, 4, 20.0452260558066,S, 139, 9.664306640625,E, grid, , , ,N
Point03,xy, 0, 2792,in, deg, 4, 20.0452260558066,S, 138, 33.8214111328125,E, grid, , , ,N
Point04,xy, 3480, 0,in, deg, 3, 51.3620137640679,S, 139, 9.664306640625,E, grid, , , ,N
Point05,xy, 1740, 1396,in, deg, 4, 5.70576168037077,S, 138, 51.7428588867188,E, grid, , , ,N
Point06,xy, 1740, 0,in, deg, 3, 51.3620137640679,S, 138, 51.7428588867188,E, grid, , , ,N
Point07,xy, 0, 1396,in, deg, 4, 5.70576168037077,S, 138, 33.8214111328125,E, grid, , , ,N
Point08,xy, 3480, 1396,in, deg, 4, 5.70576168037077,S, 139, 9.664306640625,E, grid, , , ,N
Point09,xy, 1740, 2792,in, deg, 4, 20.0452260558066,S, 138, 51.7428588867188,E, grid, , , ,N
Point10,xy, , ,in, deg, , ,N, , ,W, grid, , , ,N
Point11,xy, , ,in, deg, , ,N, , ,W, grid, , , ,N
Point12,xy, , ,in, deg, , ,N, , ,W, grid, , , ,N
Point13,xy, , ,in, deg, , ,N, , ,W, grid, , , ,N
Point14,xy, , ,in, deg, , ,N, , ,W, grid, , , ,N
Point15,xy, , ,in, deg, , ,N, , ,W, grid, , , ,N
Point16,xy, , ,in, deg, , ,N, , ,W, grid, , , ,N
Point17,xy, , ,in, deg, , ,N, , ,W, grid, , , ,N
Point18,xy, , ,in, deg, , ,N, , ,W, grid, , , ,N
Point19,xy, , ,in, deg, , ,N, , ,W, grid, , , ,N
Point20,xy, , ,in, deg, , ,N, , ,W, grid, , , ,N
Point21,xy, , ,in, deg, , ,N, , ,W, grid, , , ,N
Point22,xy, , ,in, deg, , ,N, , ,W, grid, , , ,N
Point23,xy, , ,in, deg, , ,N, , ,W, grid, , , ,N
Point24,xy, , ,in, deg, , ,N, , ,W, grid, , , ,N
Point25,xy, , ,in, deg, , ,N, , ,W, grid, , , ,N
Point26,xy, , ,in, deg, , ,N, , ,W, grid, , , ,N
Point27,xy, , ,in, deg, , ,N, , ,W, grid, , , ,N
Point28,xy, , ,in, deg, , ,N, , ,W, grid, , , ,N
Point29,xy, , ,in, deg, , ,N, , ,W, grid, , , ,N
Point30,xy, , ,in, deg, , ,N, , ,W, grid, , , ,N
Projection Setup,,,,,,,,,,
Map Feature = MF ; Map Comment = MC These follow if they exist
Track File = TF These follow if they exist
Moving Map Parameters = MM? These follow if they exist
MM0,Yes
MMPNUM,4
MMPXY,1,0,0
MMPXY,2,3480,0
MMPXY,3,3480,2792
MMPXY,4,0,2792
MMPLL,1, 138.563690185547, -3.85603356273446
MMPLL,2, 139.161071777344, -3.85603356273446
MMPLL,3, 139.161071777344, -4.33408710093011
MMPLL,4, 138.563690185547, -4.33408710093011
MM1B,19.0604692036839
MOP,Map Open Position,0,0
IWH,Map Image Width/Height,3480,2792
