OziExplorer Map Data File Version 2.2
MeruBetiri15
MeruBetiri15.jpg
1 ,Map Code,
WGS 84,, 0.0000, 0.0000,WGS 84
Reserved 1
Reserved 2
Magnetic Variation,,,E
Map Projection,Mercator,PolyCal,No,AutoCalOnly,No,BSBUseWPX,No
Point01,xy, 0, 0,in, deg, 8, 25.245195744905,S, 113, 34.5172119140625,E, grid, , , ,N
Point02,xy, 5840, 2704,in, deg, 8, 39.0161227134288,S, 114, 4.59228515625,E, grid, , , ,N
Point03,xy, 0, 2704,in, deg, 8, 39.0161227134288,S, 113, 34.5172119140625,E, grid, , , ,N
Point04,xy, 5840, 0,in, deg, 8, 25.245195744905,S, 114, 4.59228515625,E, grid, , , ,N
Point05,xy, 2920, 1352,in, deg, 8, 32.1316941320576,S, 113, 49.5547485351563,E, grid, , , ,N
Point06,xy, 2920, 0,in, deg, 8, 25.245195744905,S, 113, 49.5547485351563,E, grid, , , ,N
Point07,xy, 0, 1352,in, deg, 8, 32.1316941320576,S, 113, 34.5172119140625,E, grid, , , ,N
Point08,xy, 5840, 1352,in, deg, 8, 32.1316941320576,S, 114, 4.59228515625,E, grid, , , ,N
Point09,xy, 2920, 2704,in, deg, 8, 39.0161227134288,S, 113, 49.5547485351563,E, grid, , , ,N
Point10,xy, , ,in, deg, , ,N, , ,W, grid, , , ,N
Point11,xy, , ,in, deg, , ,N, , ,W, grid, , , ,N
Point12,xy, , ,in, deg, , ,N, , ,W, grid, , , ,N
Point13,xy, , ,in, deg, , ,N, , ,W, grid, , , ,N
Point14,xy, , ,in, deg, , ,N, , ,W, grid, , , ,N
Point15,xy, , ,in, deg, , ,N, , ,W, grid, , , ,N
Point16,xy, , ,in, deg, , ,N, , ,W, grid, , , ,N
Point17,xy, , ,in, deg, , ,N, , ,W, grid, , , ,N
Point18,xy, , ,in, deg, , ,N, , ,W, grid, , , ,N
Point19,xy, , ,in, deg, , ,N, , ,W, grid, , , ,N
Point20,xy, , ,in, deg, , ,N, , ,W, grid, , , ,N
Point21,xy, , ,in, deg, , ,N, , ,W, grid, , , ,N
Point22,xy, , ,in, deg, , ,N, , ,W, grid, , , ,N
Point23,xy, , ,in, deg, , ,N, , ,W, grid, , , ,N
Point24,xy, , ,in, deg, , ,N, , ,W, grid, , , ,N
Point25,xy, , ,in, deg, , ,N, , ,W, grid, , , ,N
Point26,xy, , ,in, deg, , ,N, , ,W, grid, , , ,N
Point27,xy, , ,in, deg, , ,N, , ,W, grid, , , ,N
Point28,xy, , ,in, deg, , ,N, , ,W, grid, , , ,N
Point29,xy, , ,in, deg, , ,N, , ,W, grid, , , ,N
Point30,xy, , ,in, deg, , ,N, , ,W, grid, , , ,N
Projection Setup,,,,,,,,,,
Map Feature = MF ; Map Comment = MC These follow if they exist
Track File = TF These follow if they exist
Moving Map Parameters = MM? These follow if they exist
MM0,Yes
MMPNUM,4
MMPXY,1,0,0
MMPXY,2,5840,0
MMPXY,3,5840,2704
MMPXY,4,0,2704
MMPLL,1, 113.575286865234, -8.42075326241508
MMPLL,2, 114.076538085938, -8.42075326241508
MMPLL,3, 114.076538085938, -8.65026871189048
MMPLL,4, 113.575286865234, -8.65026871189048
MM1B,9.44880165032509
MOP,Map Open Position,0,0
IWH,Map Image Width/Height,5840,2704
