OziExplorer Map Data File Version 2.2
m56-060
E:\Проекты походов\_4 Сахалин-Курилы\_Проект Парамушир\100000\m-56-060.jpg
1 ,Map Code,
Pulkovo 1942 (1),, 0.0000, 0.0000,WGS 84
Reserved 1
Reserved 2
Magnetic Variation,,,E
Map Projection,Transverse Mercator,PolyCal,Yes,AutoCalOnly,No,BSBUseWPX,No
Point01,xy, 270, 274,in, deg, 50, 40.0000,N, 155, 30.0000,E, grid, , , ,N
Point02,xy, 2363, 285,in, deg, 50, 40.0000,N, 155, 45.0000,E, grid, , , ,N
Point03,xy, 4456, 286,in, deg, 50, 40.0000,N, 156, 0.0000,E, grid, , , ,N
Point04,xy, 259, 2473,in, deg, 50, 30.0000,N, 155, 30.0000,E, grid, , , ,N
Point05,xy, 2360, 2481,in, deg, 50, 30.0000,N, 155, 45.0000,E, grid, , , ,N
Point06,xy, 4461, 2485,in, deg, 50, 30.0000,N, 156, 0.0000,E, grid, , , ,N
Point07,xy, 249, 4672,in, deg, 50, 20.0000,N, 155, 30.0000,E, grid, , , ,N
Point08,xy, 2357, 4680,in, deg, 50, 20.0000,N, 155, 45.0000,E, grid, , , ,N
Point09,xy, 4464, 4685,in, deg, 50, 20.0000,N, 156, 0.0000,E, grid, , , ,N
Point10,xy, , ,in, deg, , ,N, , ,W, grid, , , ,N
Point11,xy, , ,in, deg, , ,N, , ,W, grid, , , ,N
Point12,xy, , ,in, deg, , ,N, , ,W, grid, , , ,N
Point13,xy, , ,in, deg, , ,N, , ,W, grid, , , ,N
Point14,xy, , ,in, deg, , ,N, , ,W, grid, , , ,N
Point15,xy, , ,in, deg, , ,N, , ,W, grid, , , ,N
Point16,xy, , ,in, deg, , ,N, , ,W, grid, , , ,N
Point17,xy, , ,in, deg, , ,N, , ,W, grid, , , ,N
Point18,xy, , ,in, deg, , ,N, , ,W, grid, , , ,N
Point19,xy, , ,in, deg, , ,N, , ,W, grid, , , ,N
Point20,xy, , ,in, deg, , ,N, , ,W, grid, , , ,N
Point21,xy, , ,in, deg, , ,N, , ,W, grid, , , ,N
Point22,xy, , ,in, deg, , ,N, , ,W, grid, , , ,N
Point23,xy, , ,in, deg, , ,N, , ,W, grid, , , ,N
Point24,xy, , ,in, deg, , ,N, , ,W, grid, , , ,N
Point25,xy, , ,in, deg, , ,N, , ,W, grid, , , ,N
Point26,xy, , ,in, deg, , ,N, , ,W, grid, , , ,N
Point27,xy, , ,in, deg, , ,N, , ,W, grid, , , ,N
Point28,xy, , ,in, deg, , ,N, , ,W, grid, , , ,N
Point29,xy, , ,in, deg, , ,N, , ,W, grid, , , ,N
Point30,xy, , ,in, deg, , ,N, , ,W, grid, , , ,N
Projection Setup, 0.000000000, 153.000000000, 1.000000000, 26500000.00, 0.00,,,,,
Map Feature = MF ; Map Comment = MC These follow if they exist
Track File = TF These follow if they exist
Moving Map Parameters = MM? These follow if they exist
MM0,Yes
MMPNUM,4
MMPXY,1,266,271
MMPXY,2,4459,284
MMPXY,3,4466,4688
MMPXY,4,245,4674
MMPLL,1, 155.499556, 50.666954
MMPLL,2, 156.000336, 50.666867
MMPLL,3, 156.000194, 50.333066
MMPLL,4, 155.499543, 50.333153
MM1B,8.438380
Other Grid Setup
GRGRID,No,2 Km,No,16711680,255,2 Km,0,16777215,8,0,Yes,Yes,No,x
MOP,Map Open Position,0,0
IWH,Map Image Width/Height,4692,5130
