OziExplorer Map Data File Version 2.2
m57-037
E:\Проекты походов\_4 Сахалин-Курилы\_Проект Парамушир\100000\m-57-037.jpg
1 ,Map Code,
Pulkovo 1942 (1),, 0.0000, 0.0000,WGS 84
Reserved 1
Reserved 2
Magnetic Variation,,,E
Map Projection,Transverse Mercator,PolyCal,Yes,AutoCalOnly,No,BSBUseWPX,No
Point01,xy, 229, 332,in, deg, 51, 0.0000,N, 156, 0.0000,E, grid, , , ,N
Point02,xy, 2302, 340,in, deg, 51, 0.0000,N, 156, 15.0000,E, grid, , , ,N
Point03,xy, 4381, 337,in, deg, 51, 0.0000,N, 156, 30.0000,E, grid, , , ,N
Point04,xy, 221, 2527,in, deg, 50, 50.0000,N, 156, 0.0000,E, grid, , , ,N
Point05,xy, 2306, 2534,in, deg, 50, 50.0000,N, 156, 15.0000,E, grid, , , ,N
Point06,xy, 4392, 2532,in, deg, 50, 50.0000,N, 156, 30.0000,E, grid, , , ,N
Point07,xy, 216, 4723,in, deg, 50, 40.0000,N, 156, 0.0000,E, grid, , , ,N
Point08,xy, 2308, 4728,in, deg, 50, 40.0000,N, 156, 15.0000,E, grid, , , ,N
Point09,xy, 4400, 4724,in, deg, 50, 40.0000,N, 156, 30.0000,E, grid, , , ,N
Point10,xy, , ,in, deg, , ,N, , ,W, grid, , , ,N
Point11,xy, , ,in, deg, , ,N, , ,W, grid, , , ,N
Point12,xy, , ,in, deg, , ,N, , ,W, grid, , , ,N
Point13,xy, , ,in, deg, , ,N, , ,W, grid, , , ,N
Point14,xy, , ,in, deg, , ,N, , ,W, grid, , , ,N
Point15,xy, , ,in, deg, , ,N, , ,W, grid, , , ,N
Point16,xy, , ,in, deg, , ,N, , ,W, grid, , , ,N
Point17,xy, , ,in, deg, , ,N, , ,W, grid, , , ,N
Point18,xy, , ,in, deg, , ,N, , ,W, grid, , , ,N
Point19,xy, , ,in, deg, , ,N, , ,W, grid, , , ,N
Point20,xy, , ,in, deg, , ,N, , ,W, grid, , , ,N
Point21,xy, , ,in, deg, , ,N, , ,W, grid, , , ,N
Point22,xy, , ,in, deg, , ,N, , ,W, grid, , , ,N
Point23,xy, , ,in, deg, , ,N, , ,W, grid, , , ,N
Point24,xy, , ,in, deg, , ,N, , ,W, grid, , , ,N
Point25,xy, , ,in, deg, , ,N, , ,W, grid, , , ,N
Point26,xy, , ,in, deg, , ,N, , ,W, grid, , , ,N
Point27,xy, , ,in, deg, , ,N, , ,W, grid, , , ,N
Point28,xy, , ,in, deg, , ,N, , ,W, grid, , , ,N
Point29,xy, , ,in, deg, , ,N, , ,W, grid, , , ,N
Point30,xy, , ,in, deg, , ,N, , ,W, grid, , , ,N
Projection Setup, 0.000000000, 159.000000000, 1.000000000, 27500000.00, 0.00,,,,,
Map Feature = MF ; Map Comment = MC These follow if they exist
Track File = TF These follow if they exist
Moving Map Parameters = MM? These follow if they exist
MM0,Yes
MMPNUM,4
MMPXY,1,226,330
MMPXY,2,4385,333
MMPXY,3,4404,4726
MMPXY,4,214,4726
MMPLL,1, 155.999772, 51.000143
MMPLL,2, 156.500498, 51.000346
MMPLL,3, 156.500371, 50.666530
MMPLL,4, 155.999775, 50.666405
MM1B,8.443629
Other Grid Setup
GRGRID,No,2 Km,No,16711680,255,2 Km,0,16777215,8,0,Yes,Yes,No,x
MOP,Map Open Position,0,0
IWH,Map Image Width/Height,4610,5171
