OziExplorer Map Data File Version 2.2
bahrain13.jpg
bahrain13.jpg
1 ,Map Code,
WGS 84,, 0.0000, 0.0000,WGS 84
Reserved 1
Reserved 2
Magnetic Variation,,,E
Map Projection,Mercator,PolyCal,No,AutoCalOnly,No,BSBUseWPX,No
Point01,xy, 0, 0,in, deg, 26, 21.3898,N, 50, 19.2696,E, grid, , , ,N
Point02,xy, 610, 0,in, deg, 26, 21.3898,N, 50, 31.8558,E, grid, , , ,N
Point03,xy, 1221, 0,in, deg, 26, 21.3898,N, 50, 44.4214,E, grid, , , ,N
Point04,xy, 0, 922,in, deg, 26, 4.3322,N, 50, 19.2696,E, grid, , , ,N
Point05,xy, 610, 922,in, deg, 26, 4.3322,N, 50, 31.8558,E, grid, , , ,N
Point06,xy, 1221, 922,in, deg, 26, 4.3322,N, 50, 44.4214,E, grid, , , ,N
Point07,xy, 0, 1845,in, deg, 25, 47.2516,N, 50, 19.2696,E, grid, , , ,N
Point08,xy, 610, 1845,in, deg, 25, 47.2516,N, 50, 31.8558,E, grid, , , ,N
Point09,xy, 1221, 1845,in, deg, 25, 47.2516,N, 50, 44.4214,E, grid, , , ,N
Point10,xy, , ,in, deg, , ,N, , ,W, grid, , , ,N
Point11,xy, , ,in, deg, , ,N, , ,W, grid, , , ,N
Point12,xy, , ,in, deg, , ,N, , ,W, grid, , , ,N
Point13,xy, , ,in, deg, , ,N, , ,W, grid, , , ,N
Point14,xy, , ,in, deg, , ,N, , ,W, grid, , , ,N
Point15,xy, , ,in, deg, , ,N, , ,W, grid, , , ,N
Point16,xy, , ,in, deg, , ,N, , ,W, grid, , , ,N
Point17,xy, , ,in, deg, , ,N, , ,W, grid, , , ,N
Point18,xy, , ,in, deg, , ,N, , ,W, grid, , , ,N
Point19,xy, , ,in, deg, , ,N, , ,W, grid, , , ,N
Point20,xy, , ,in, deg, , ,N, , ,W, grid, , , ,N
Point21,xy, , ,in, deg, , ,N, , ,W, grid, , , ,N
Point22,xy, , ,in, deg, , ,N, , ,W, grid, , , ,N
Point23,xy, , ,in, deg, , ,N, , ,W, grid, , , ,N
Point24,xy, , ,in, deg, , ,N, , ,W, grid, , , ,N
Point25,xy, , ,in, deg, , ,N, , ,W, grid, , , ,N
Point26,xy, , ,in, deg, , ,N, , ,W, grid, , , ,N
Point27,xy, , ,in, deg, , ,N, , ,W, grid, , , ,N
Point28,xy, , ,in, deg, , ,N, , ,W, grid, , , ,N
Point29,xy, , ,in, deg, , ,N, , ,W, grid, , , ,N
Point30,xy, , ,in, deg, , ,N, , ,W, grid, , , ,N
Projection Setup,,,,,,,,,,
Map Feature = MF ; Map Comment = MC These follow if they exist
Track File = TF These follow if they exist
Moving Map Parameters = MM? These follow if they exist
MM0,Yes
MMPNUM,4
MMPXY,1,0,0
MMPXY,2,1221,0
MMPXY,3,1221,1845
MMPXY,4,0,1845
MMPLL,1, 50.321159, 26.356497
MMPLL,2, 50.740356, 26.356497
MMPLL,3, 50.740356, 25.787527
MMPLL,4, 50.321159, 25.787527
MM1B,34.329433
MOP,Map Open Position,0,0
IWH,Map Image Width/Height,1221,1845
MLP,Map Last Position,26.1775230,50.6481174,100
