OziExplorer Map Data File Version 2.2
uae12.jpg
uae12.jpg
1 ,Map Code,
WGS 84,, 0.0000, 0.0000,WGS 84
Reserved 1
Reserved 2
Magnetic Variation,,,E
Map Projection,Mercator,PolyCal,No,AutoCalOnly,No,BSBUseWPX,No
Point01,xy, 0, 0,in, deg, 26, 21.5190,N, 51, 33.3243,E, grid, , , ,N
Point02,xy, 3536, 0,in, deg, 26, 21.5190,N, 53, 59.0442,E, grid, , , ,N
Point03,xy, 7073, 0,in, deg, 26, 21.5190,N, 56, 24.7229,E, grid, , , ,N
Point04,xy, 0, 3040,in, deg, 24, 28.3665,N, 51, 33.3243,E, grid, , , ,N
Point05,xy, 3536, 3040,in, deg, 24, 28.3665,N, 53, 59.0442,E, grid, , , ,N
Point06,xy, 7073, 3040,in, deg, 24, 28.3665,N, 56, 24.7229,E, grid, , , ,N
Point07,xy, 0, 6081,in, deg, 22, 33.5313,N, 51, 33.3243,E, grid, , , ,N
Point08,xy, 3536, 6081,in, deg, 22, 33.5313,N, 53, 59.0442,E, grid, , , ,N
Point09,xy, 7073, 6081,in, deg, 22, 33.5313,N, 56, 24.7229,E, grid, , , ,N
Point10,xy, , ,in, deg, , ,N, , ,W, grid, , , ,N
Point11,xy, , ,in, deg, , ,N, , ,W, grid, , , ,N
Point12,xy, , ,in, deg, , ,N, , ,W, grid, , , ,N
Point13,xy, , ,in, deg, , ,N, , ,W, grid, , , ,N
Point14,xy, , ,in, deg, , ,N, , ,W, grid, , , ,N
Point15,xy, , ,in, deg, , ,N, , ,W, grid, , , ,N
Point16,xy, , ,in, deg, , ,N, , ,W, grid, , , ,N
Point17,xy, , ,in, deg, , ,N, , ,W, grid, , , ,N
Point18,xy, , ,in, deg, , ,N, , ,W, grid, , , ,N
Point19,xy, , ,in, deg, , ,N, , ,W, grid, , , ,N
Point20,xy, , ,in, deg, , ,N, , ,W, grid, , , ,N
Point21,xy, , ,in, deg, , ,N, , ,W, grid, , , ,N
Point22,xy, , ,in, deg, , ,N, , ,W, grid, , , ,N
Point23,xy, , ,in, deg, , ,N, , ,W, grid, , , ,N
Point24,xy, , ,in, deg, , ,N, , ,W, grid, , , ,N
Point25,xy, , ,in, deg, , ,N, , ,W, grid, , , ,N
Point26,xy, , ,in, deg, , ,N, , ,W, grid, , , ,N
Point27,xy, , ,in, deg, , ,N, , ,W, grid, , , ,N
Point28,xy, , ,in, deg, , ,N, , ,W, grid, , , ,N
Point29,xy, , ,in, deg, , ,N, , ,W, grid, , , ,N
Point30,xy, , ,in, deg, , ,N, , ,W, grid, , , ,N
Projection Setup,,,,,,,,,,
Map Feature = MF ; Map Comment = MC These follow if they exist
Track File = TF These follow if they exist
Moving Map Parameters = MM? These follow if they exist
MM0,Yes
MMPNUM,4
MMPXY,1,0,0
MMPXY,2,7073,0
MMPXY,3,7073,6081
MMPXY,4,0,6081
MMPLL,1, 51.555405, 26.358651
MMPLL,2, 56.412048, 26.358651
MMPLL,3, 56.412048, 22.558855
MMPLL,4, 51.555405, 22.558855
MM1B,69.569789
MOP,Map Open Position,0,0
IWH,Map Image Width/Height,7073,6081
MLP,Map Last Position,25.1694009,55.7585908,100
