OziExplorer Map Data File Version 2.2
balkany11.jpg
balkany11.jpg
1 ,Map Code,
WGS 84,, 0.0000, 0.0000,WGS 84
Reserved 1
Reserved 2
Magnetic Variation,,,E
Map Projection,Mercator,PolyCal,No,AutoCalOnly,No,BSBUseWPX,No
Point01,xy, 0, 0,in, deg, 50, 10.0334,N, 16, 23.6609,E, grid, , , ,N
Point02,xy, 7296, 0,in, deg, 50, 10.0334,N, 26, 24.9152,E, grid, , , ,N
Point03,xy, 14593, 0,in, deg, 50, 10.0334,N, 36, 26.0870,E, grid, , , ,N
Point04,xy, 0, 5216,in, deg, 45, 21.3603,N, 16, 23.6609,E, grid, , , ,N
Point05,xy, 7296, 5216,in, deg, 45, 21.3603,N, 26, 24.9152,E, grid, , , ,N
Point06,xy, 14593, 5216,in, deg, 45, 21.3603,N, 36, 26.0870,E, grid, , , ,N
Point07,xy, 0, 10433,in, deg, 40, 5.9450,N, 16, 23.6609,E, grid, , , ,N
Point08,xy, 7296, 10433,in, deg, 40, 5.9450,N, 26, 24.9152,E, grid, , , ,N
Point09,xy, 14593, 10433,in, deg, 40, 5.9450,N, 36, 26.0870,E, grid, , , ,N
Point10,xy, , ,in, deg, , ,N, , ,W, grid, , , ,N
Point11,xy, , ,in, deg, , ,N, , ,W, grid, , , ,N
Point12,xy, , ,in, deg, , ,N, , ,W, grid, , , ,N
Point13,xy, , ,in, deg, , ,N, , ,W, grid, , , ,N
Point14,xy, , ,in, deg, , ,N, , ,W, grid, , , ,N
Point15,xy, , ,in, deg, , ,N, , ,W, grid, , , ,N
Point16,xy, , ,in, deg, , ,N, , ,W, grid, , , ,N
Point17,xy, , ,in, deg, , ,N, , ,W, grid, , , ,N
Point18,xy, , ,in, deg, , ,N, , ,W, grid, , , ,N
Point19,xy, , ,in, deg, , ,N, , ,W, grid, , , ,N
Point20,xy, , ,in, deg, , ,N, , ,W, grid, , , ,N
Point21,xy, , ,in, deg, , ,N, , ,W, grid, , , ,N
Point22,xy, , ,in, deg, , ,N, , ,W, grid, , , ,N
Point23,xy, , ,in, deg, , ,N, , ,W, grid, , , ,N
Point24,xy, , ,in, deg, , ,N, , ,W, grid, , , ,N
Point25,xy, , ,in, deg, , ,N, , ,W, grid, , , ,N
Point26,xy, , ,in, deg, , ,N, , ,W, grid, , , ,N
Point27,xy, , ,in, deg, , ,N, , ,W, grid, , , ,N
Point28,xy, , ,in, deg, , ,N, , ,W, grid, , , ,N
Point29,xy, , ,in, deg, , ,N, , ,W, grid, , , ,N
Point30,xy, , ,in, deg, , ,N, , ,W, grid, , , ,N
Projection Setup,,,,,,,,,,
Map Feature = MF ; Map Comment = MC These follow if they exist
Track File = TF These follow if they exist
Moving Map Parameters = MM? These follow if they exist
MM0,Yes
MMPNUM,4
MMPXY,1,0,0
MMPXY,2,14593,0
MMPXY,3,14593,10433
MMPXY,4,0,10433
MMPLL,1, 16.394348, 50.167223
MMPLL,2, 36.434784, 50.167223
MMPLL,3, 36.434784, 40.099084
MMPLL,4, 16.394348, 40.099084
MM1B,107.424535
MOP,Map Open Position,0,0
IWH,Map Image Width/Height,14593,10433
