OziExplorer Map Data File Version 2.2
Created by SAS.Planet
Belarus11.jpg
1 ,Map Code,
WGS 84,, 0.0000, 0.0000,WGS 84
Reserved 1
Reserved 2
Magnetic Variation,,,E
Map Projection,Mercator,PolyCal,No,AutoCalOnly,No,BSBUseWPX,No
Point01,xy, 0, 0,in, deg, 54, 20.144637318042,N, 23, 20.7568359375,E, grid, , , ,N
Point02,xy, 9752, 5808,in, deg, 49, 25.0872420399848,N, 36, 44.296875,E, grid, , , ,N
Point03,xy, 0, 5808,in, deg, 49, 25.0872420399848,N, 23, 20.7568359375,E, grid, , , ,N
Point04,xy, 9752, 0,in, deg, 54, 20.144637318042,N, 36, 44.296875,E, grid, , , ,N
Point05,xy, 4876, 2904,in, deg, 51, 56.6558927417255,N, 30, 2.52685546875,E, grid, , , ,N
Point06,xy, 4876, 0,in, deg, 54, 20.144637318042,N, 30, 2.52685546875,E, grid, , , ,N
Point07,xy, 0, 2904,in, deg, 51, 56.6558927417255,N, 23, 20.7568359375,E, grid, , , ,N
Point08,xy, 9752, 2904,in, deg, 51, 56.6558927417255,N, 36, 44.296875,E, grid, , , ,N
Point09,xy, 4876, 5808,in, deg, 49, 25.0872420399848,N, 30, 2.52685546875,E, grid, , , ,N
Point10,xy, , ,in, deg, , ,N, , ,W, grid, , , ,N
Point11,xy, , ,in, deg, , ,N, , ,W, grid, , , ,N
Point12,xy, , ,in, deg, , ,N, , ,W, grid, , , ,N
Point13,xy, , ,in, deg, , ,N, , ,W, grid, , , ,N
Point14,xy, , ,in, deg, , ,N, , ,W, grid, , , ,N
Point15,xy, , ,in, deg, , ,N, , ,W, grid, , , ,N
Point16,xy, , ,in, deg, , ,N, , ,W, grid, , , ,N
Point17,xy, , ,in, deg, , ,N, , ,W, grid, , , ,N
Point18,xy, , ,in, deg, , ,N, , ,W, grid, , , ,N
Point19,xy, , ,in, deg, , ,N, , ,W, grid, , , ,N
Point20,xy, , ,in, deg, , ,N, , ,W, grid, , , ,N
Point21,xy, , ,in, deg, , ,N, , ,W, grid, , , ,N
Point22,xy, , ,in, deg, , ,N, , ,W, grid, , , ,N
Point23,xy, , ,in, deg, , ,N, , ,W, grid, , , ,N
Point24,xy, , ,in, deg, , ,N, , ,W, grid, , , ,N
Point25,xy, , ,in, deg, , ,N, , ,W, grid, , , ,N
Point26,xy, , ,in, deg, , ,N, , ,W, grid, , , ,N
Point27,xy, , ,in, deg, , ,N, , ,W, grid, , , ,N
Point28,xy, , ,in, deg, , ,N, , ,W, grid, , , ,N
Point29,xy, , ,in, deg, , ,N, , ,W, grid, , , ,N
Point30,xy, , ,in, deg, , ,N, , ,W, grid, , , ,N
Projection Setup,,,,,,,,,,
Map Feature = MF ; Map Comment = MC These follow if they exist
Track File = TF These follow if they exist
Moving Map Parameters = MM? These follow if they exist
MM0,Yes
MMPNUM,4
MMPXY,1,0,0
MMPXY,2,9752,0
MMPXY,3,9752,5808
MMPXY,4,0,5808
MMPLL,1, 23.345947265625, 54.3357439553007
MMPLL,2, 36.73828125, 54.3357439553007
MMPLL,3, 36.73828125, 49.4181207006664
MMPLL,4, 23.345947265625, 49.4181207006664
MM1B,94.2358077188652
MOP,Map Open Position,0,0
IWH,Map Image Width/Height,9752,5808
