OziExplorer Map Data File Version 2.2
egypt2019.jpg
egypt2019.jpg
1 ,Map Code,
WGS 84,, 0.0000, 0.0000,WGS 84
Reserved 1
Reserved 2
Magnetic Variation,,,E
Map Projection,Mercator,PolyCal,No,AutoCalOnly,No,BSBUseWPX,No
Point01,xy, 0, 0,in, deg, 31, 56.4655,N, 27, 0.6757,E, grid, , , ,N
Point02,xy, 5968, 0,in, deg, 31, 56.4655,N, 31, 6.5909,E, grid, , , ,N
Point03,xy, 11937, 0,in, deg, 31, 56.4655,N, 35, 12.4649,E, grid, , , ,N
Point04,xy, 0, 6784,in, deg, 27, 54.2779,N, 27, 0.6757,E, grid, , , ,N
Point05,xy, 5968, 6784,in, deg, 27, 54.2779,N, 31, 6.5909,E, grid, , , ,N
Point06,xy, 11937, 6784,in, deg, 27, 54.2779,N, 35, 12.4649,E, grid, , , ,N
Point07,xy, 0, 13569,in, deg, 23, 42.7463,N, 27, 0.6757,E, grid, , , ,N
Point08,xy, 5968, 13569,in, deg, 23, 42.7463,N, 31, 6.5909,E, grid, , , ,N
Point09,xy, 11937, 13569,in, deg, 23, 42.7463,N, 35, 12.4649,E, grid, , , ,N
Point10,xy, , ,in, deg, , ,N, , ,W, grid, , , ,N
Point11,xy, , ,in, deg, , ,N, , ,W, grid, , , ,N
Point12,xy, , ,in, deg, , ,N, , ,W, grid, , , ,N
Point13,xy, , ,in, deg, , ,N, , ,W, grid, , , ,N
Point14,xy, , ,in, deg, , ,N, , ,W, grid, , , ,N
Point15,xy, , ,in, deg, , ,N, , ,W, grid, , , ,N
Point16,xy, , ,in, deg, , ,N, , ,W, grid, , , ,N
Point17,xy, , ,in, deg, , ,N, , ,W, grid, , , ,N
Point18,xy, , ,in, deg, , ,N, , ,W, grid, , , ,N
Point19,xy, , ,in, deg, , ,N, , ,W, grid, , , ,N
Point20,xy, , ,in, deg, , ,N, , ,W, grid, , , ,N
Point21,xy, , ,in, deg, , ,N, , ,W, grid, , , ,N
Point22,xy, , ,in, deg, , ,N, , ,W, grid, , , ,N
Point23,xy, , ,in, deg, , ,N, , ,W, grid, , , ,N
Point24,xy, , ,in, deg, , ,N, , ,W, grid, , , ,N
Point25,xy, , ,in, deg, , ,N, , ,W, grid, , , ,N
Point26,xy, , ,in, deg, , ,N, , ,W, grid, , , ,N
Point27,xy, , ,in, deg, , ,N, , ,W, grid, , , ,N
Point28,xy, , ,in, deg, , ,N, , ,W, grid, , , ,N
Point29,xy, , ,in, deg, , ,N, , ,W, grid, , , ,N
Point30,xy, , ,in, deg, , ,N, , ,W, grid, , , ,N
Projection Setup,,,,,,,,,,
Map Feature = MF ; Map Comment = MC These follow if they exist
Track File = TF These follow if they exist
Moving Map Parameters = MM? These follow if they exist
MM0,Yes
MMPNUM,4
MMPXY,1,0,0
MMPXY,2,11937,0
MMPXY,3,11937,13569
MMPXY,4,0,13569
MMPLL,1, 27.011261, 31.941092
MMPLL,2, 35.207748, 31.941092
MMPLL,3, 35.207748, 23.712439
MMPLL,4, 27.011261, 23.712439
MM1B,67.549527
MOP,Map Open Position,0,0
IWH,Map Image Width/Height,11937,13569
MLP,Map Last Position,27.8752363,34.2350006,100
