OziExplorer Map Data File Version 2.2
greece2019.jpg
greece2019.jpg
1 ,Map Code,
WGS 84,, 0.0000, 0.0000,WGS 84
Reserved 1
Reserved 2
Magnetic Variation,,,E
Map Projection,Mercator,PolyCal,No,AutoCalOnly,No,BSBUseWPX,No
Point01,xy, 0, 0,in, deg, 41, 24.4321,N, 20, 17.5461,E, grid, , , ,N
Point02,xy, 3928, 0,in, deg, 41, 24.4321,N, 22, 59.4159,E, grid, , , ,N
Point03,xy, 7857, 0,in, deg, 41, 24.4321,N, 25, 41.2445,E, grid, , , ,N
Point04,xy, 0, 4864,in, deg, 38, 51.2167,N, 20, 17.5461,E, grid, , , ,N
Point05,xy, 3928, 4864,in, deg, 38, 51.2167,N, 22, 59.4159,E, grid, , , ,N
Point06,xy, 7857, 4864,in, deg, 38, 51.2167,N, 25, 41.2445,E, grid, , , ,N
Point07,xy, 0, 9729,in, deg, 36, 12.3299,N, 20, 17.5461,E, grid, , , ,N
Point08,xy, 3928, 9729,in, deg, 36, 12.3299,N, 22, 59.4159,E, grid, , , ,N
Point09,xy, 7857, 9729,in, deg, 36, 12.3299,N, 25, 41.2445,E, grid, , , ,N
Point10,xy, , ,in, deg, , ,N, , ,W, grid, , , ,N
Point11,xy, , ,in, deg, , ,N, , ,W, grid, , , ,N
Point12,xy, , ,in, deg, , ,N, , ,W, grid, , , ,N
Point13,xy, , ,in, deg, , ,N, , ,W, grid, , , ,N
Point14,xy, , ,in, deg, , ,N, , ,W, grid, , , ,N
Point15,xy, , ,in, deg, , ,N, , ,W, grid, , , ,N
Point16,xy, , ,in, deg, , ,N, , ,W, grid, , , ,N
Point17,xy, , ,in, deg, , ,N, , ,W, grid, , , ,N
Point18,xy, , ,in, deg, , ,N, , ,W, grid, , , ,N
Point19,xy, , ,in, deg, , ,N, , ,W, grid, , , ,N
Point20,xy, , ,in, deg, , ,N, , ,W, grid, , , ,N
Point21,xy, , ,in, deg, , ,N, , ,W, grid, , , ,N
Point22,xy, , ,in, deg, , ,N, , ,W, grid, , , ,N
Point23,xy, , ,in, deg, , ,N, , ,W, grid, , , ,N
Point24,xy, , ,in, deg, , ,N, , ,W, grid, , , ,N
Point25,xy, , ,in, deg, , ,N, , ,W, grid, , , ,N
Point26,xy, , ,in, deg, , ,N, , ,W, grid, , , ,N
Point27,xy, , ,in, deg, , ,N, , ,W, grid, , , ,N
Point28,xy, , ,in, deg, , ,N, , ,W, grid, , , ,N
Point29,xy, , ,in, deg, , ,N, , ,W, grid, , , ,N
Point30,xy, , ,in, deg, , ,N, , ,W, grid, , , ,N
Projection Setup,,,,,,,,,,
Map Feature = MF ; Map Comment = MC These follow if they exist
Track File = TF These follow if they exist
Moving Map Parameters = MM? These follow if they exist
MM0,Yes
MMPNUM,4
MMPXY,1,0,0
MMPXY,2,7857,0
MMPXY,3,7857,9729
MMPXY,4,0,9729
MMPLL,1, 20.292435, 41.407201
MMPLL,2, 25.687408, 41.407201
MMPLL,3, 25.687408, 36.205499
MMPLL,4, 20.292435, 36.205499
MM1B,59.525436
MOP,Map Open Position,0,0
IWH,Map Image Width/Height,7857,9729
MLP,Map Last Position,39.8928963,22.5448610,100
