OziExplorer Map Data File Version 2.2
Bromo-Semeru16
Bromo-Semeru16.jpg
1 ,Map Code,
WGS 84,, 0.0000, 0.0000,WGS 84
Reserved 1
Reserved 2
Magnetic Variation,,,E
Map Projection,Mercator,PolyCal,No,AutoCalOnly,No,BSBUseWPX,No
Point01,xy, 0, 0,in, deg, 7, 53.5577341332016,S, 112, 51.42333984375,E, grid, , , ,N
Point02,xy, 3600, 6176,in, deg, 8, 9.30474290045559,S, 113, 0.69305419921875,E, grid, , , ,N
Point03,xy, 0, 6176,in, deg, 8, 9.30474290045559,S, 112, 51.42333984375,E, grid, , , ,N
Point04,xy, 3600, 0,in, deg, 7, 53.5577341332016,S, 113, 0.69305419921875,E, grid, , , ,N
Point05,xy, 1800, 3088,in, deg, 8, 1.43250951755295,S, 112, 56.0581970214844,E, grid, , , ,N
Point06,xy, 1800, 0,in, deg, 7, 53.5577341332016,S, 112, 56.0581970214844,E, grid, , , ,N
Point07,xy, 0, 3088,in, deg, 8, 1.43250951755295,S, 112, 51.42333984375,E, grid, , , ,N
Point08,xy, 3600, 3088,in, deg, 8, 1.43250951755295,S, 113, 0.69305419921875,E, grid, , , ,N
Point09,xy, 1800, 6176,in, deg, 8, 9.30474290045559,S, 112, 56.0581970214844,E, grid, , , ,N
Point10,xy, , ,in, deg, , ,N, , ,W, grid, , , ,N
Point11,xy, , ,in, deg, , ,N, , ,W, grid, , , ,N
Point12,xy, , ,in, deg, , ,N, , ,W, grid, , , ,N
Point13,xy, , ,in, deg, , ,N, , ,W, grid, , , ,N
Point14,xy, , ,in, deg, , ,N, , ,W, grid, , , ,N
Point15,xy, , ,in, deg, , ,N, , ,W, grid, , , ,N
Point16,xy, , ,in, deg, , ,N, , ,W, grid, , , ,N
Point17,xy, , ,in, deg, , ,N, , ,W, grid, , , ,N
Point18,xy, , ,in, deg, , ,N, , ,W, grid, , , ,N
Point19,xy, , ,in, deg, , ,N, , ,W, grid, , , ,N
Point20,xy, , ,in, deg, , ,N, , ,W, grid, , , ,N
Point21,xy, , ,in, deg, , ,N, , ,W, grid, , , ,N
Point22,xy, , ,in, deg, , ,N, , ,W, grid, , , ,N
Point23,xy, , ,in, deg, , ,N, , ,W, grid, , , ,N
Point24,xy, , ,in, deg, , ,N, , ,W, grid, , , ,N
Point25,xy, , ,in, deg, , ,N, , ,W, grid, , , ,N
Point26,xy, , ,in, deg, , ,N, , ,W, grid, , , ,N
Point27,xy, , ,in, deg, , ,N, , ,W, grid, , , ,N
Point28,xy, , ,in, deg, , ,N, , ,W, grid, , , ,N
Point29,xy, , ,in, deg, , ,N, , ,W, grid, , , ,N
Point30,xy, , ,in, deg, , ,N, , ,W, grid, , , ,N
Projection Setup,,,,,,,,,,
Map Feature = MF ; Map Comment = MC These follow if they exist
Track File = TF These follow if they exist
Moving Map Parameters = MM? These follow if they exist
MM0,Yes
MMPNUM,4
MMPXY,1,0,0
MMPXY,2,3600,0
MMPXY,3,3600,6176
MMPXY,4,0,6176
MMPLL,1, 112.857055664063, -7.89262890222003
MMPLL,2, 113.01155090332, -7.89262890222003
MMPLL,3, 113.01155090332, -8.15507904834093
MMPLL,4, 112.857055664063, -8.15507904834093
MM1B,4.73054431011868
MOP,Map Open Position,0,0
IWH,Map Image Width/Height,3600,6176
