OziExplorer Map Data File Version 2.2
Merapi16
Merapi16.jpg
1 ,Map Code,
WGS 84,, 0.0000, 0.0000,WGS 84
Reserved 1
Reserved 2
Magnetic Variation,,,E
Map Projection,Mercator,PolyCal,No,AutoCalOnly,No,BSBUseWPX,No
Point01,xy, 0, 0,in, deg, 7, 29.7347519938652,S, 110, 24.0966796875,E, grid, , , ,N
Point02,xy, 1856, 2600,in, deg, 7, 36.3714910449506,S, 110, 28.875732421875,E, grid, , , ,N
Point03,xy, 0, 2600,in, deg, 7, 36.3714910449506,S, 110, 24.0966796875,E, grid, , , ,N
Point04,xy, 1856, 0,in, deg, 7, 29.7347519938652,S, 110, 28.875732421875,E, grid, , , ,N
Point05,xy, 928, 1300,in, deg, 7, 33.0533338172342,S, 110, 26.4862060546875,E, grid, , , ,N
Point06,xy, 928, 0,in, deg, 7, 29.7347519938652,S, 110, 26.4862060546875,E, grid, , , ,N
Point07,xy, 0, 1300,in, deg, 7, 33.0533338172342,S, 110, 24.0966796875,E, grid, , , ,N
Point08,xy, 1856, 1300,in, deg, 7, 33.0533338172342,S, 110, 28.875732421875,E, grid, , , ,N
Point09,xy, 928, 2600,in, deg, 7, 36.3714910449506,S, 110, 26.4862060546875,E, grid, , , ,N
Point10,xy, , ,in, deg, , ,N, , ,W, grid, , , ,N
Point11,xy, , ,in, deg, , ,N, , ,W, grid, , , ,N
Point12,xy, , ,in, deg, , ,N, , ,W, grid, , , ,N
Point13,xy, , ,in, deg, , ,N, , ,W, grid, , , ,N
Point14,xy, , ,in, deg, , ,N, , ,W, grid, , , ,N
Point15,xy, , ,in, deg, , ,N, , ,W, grid, , , ,N
Point16,xy, , ,in, deg, , ,N, , ,W, grid, , , ,N
Point17,xy, , ,in, deg, , ,N, , ,W, grid, , , ,N
Point18,xy, , ,in, deg, , ,N, , ,W, grid, , , ,N
Point19,xy, , ,in, deg, , ,N, , ,W, grid, , , ,N
Point20,xy, , ,in, deg, , ,N, , ,W, grid, , , ,N
Point21,xy, , ,in, deg, , ,N, , ,W, grid, , , ,N
Point22,xy, , ,in, deg, , ,N, , ,W, grid, , , ,N
Point23,xy, , ,in, deg, , ,N, , ,W, grid, , , ,N
Point24,xy, , ,in, deg, , ,N, , ,W, grid, , , ,N
Point25,xy, , ,in, deg, , ,N, , ,W, grid, , , ,N
Point26,xy, , ,in, deg, , ,N, , ,W, grid, , , ,N
Point27,xy, , ,in, deg, , ,N, , ,W, grid, , , ,N
Point28,xy, , ,in, deg, , ,N, , ,W, grid, , , ,N
Point29,xy, , ,in, deg, , ,N, , ,W, grid, , , ,N
Point30,xy, , ,in, deg, , ,N, , ,W, grid, , , ,N
Projection Setup,,,,,,,,,,
Map Feature = MF ; Map Comment = MC These follow if they exist
Track File = TF These follow if they exist
Moving Map Parameters = MM? These follow if they exist
MM0,Yes
MMPNUM,4
MMPXY,1,0,0
MMPXY,2,1856,0
MMPXY,3,1856,2600
MMPXY,4,0,2600
MMPLL,1, 110.401611328125, -7.49557919989775
MMPLL,2, 110.481262207031, -7.49557919989775
MMPLL,3, 110.481262207031, -7.60619151741584
MMPLL,4, 110.401611328125, -7.60619151741584
MM1B,4.73588797697822
MOP,Map Open Position,0,0
IWH,Map Image Width/Height,1856,2600
