OziExplorer Map Data File Version 2.2
N-57-057.jpg
N-57-057.jpg
1 ,Map Code,
Pulkovo 1942 (1),, 0.0000, 0.0000,WGS 84
Reserved 1
Reserved 2
Magnetic Variation,,,E
Map Projection,Latitude/Longitude,PolyCal,No,AutoCalOnly,No,BSBUseWPX,No
Point01,xy, 160, 211,in, deg, 54, 40,N, 160, 0,E, grid, , , ,S
Point02,xy, 3985, 222,in, deg, 54, 40,N, 160, 30,E, grid, , , ,S
Point03,xy, 4001, 4618,in, deg, 54, 20,N, 160, 30,E, grid, , , ,S
Point04,xy, 149, 4607,in, deg, 54, 20,N, 160, 0,E, grid, , , ,S
Point05,xy, 2073, 2418,in, deg, 54, 30,N, 160, 15,E, grid, , , ,S
Point06,xy, , ,in, deg, , ,S, , ,E, grid, , , ,S
Point07,xy, , ,in, deg, , ,S, , ,E, grid, , , ,S
Point08,xy, , ,in, deg, , ,S, , ,E, grid, , , ,S
Point09,xy, , ,in, deg, , ,S, , ,E, grid, , , ,S
Point10,xy, , ,in, deg, , ,, , ,, grid, , , ,
Point11,xy, , ,in, deg, , ,, , ,, grid, , , ,
Point12,xy, , ,in, deg, , ,, , ,, grid, , , ,
Point13,xy, , ,in, deg, , ,, , ,, grid, , , ,
Point14,xy, , ,in, deg, , ,, , ,, grid, , , ,
Point15,xy, , ,in, deg, , ,, , ,, grid, , , ,
Point16,xy, , ,in, deg, , ,, , ,, grid, , , ,
Point17,xy, , ,in, deg, , ,, , ,, grid, , , ,
Point18,xy, , ,in, deg, , ,, , ,, grid, , , ,
Point19,xy, , ,in, deg, , ,, , ,, grid, , , ,
Point20,xy, , ,in, deg, , ,, , ,, grid, , , ,
Point21,xy, , ,in, deg, , ,, , ,, grid, , , ,
Point22,xy, , ,in, deg, , ,, , ,, grid, , , ,
Point23,xy, , ,in, deg, , ,, , ,, grid, , , ,
Point24,xy, , ,in, deg, , ,, , ,, grid, , , ,
Point25,xy, , ,in, deg, , ,, , ,, grid, , , ,
Point26,xy, , ,in, deg, , ,, , ,, grid, , , ,
Point27,xy, , ,in, deg, , ,, , ,, grid, , , ,
Point28,xy, , ,in, deg, , ,, , ,, grid, , , ,
Point29,xy, , ,in, deg, , ,, , ,, grid, , , ,
Point30,xy, , ,in, deg, , ,, , ,, grid, , , ,
Projection Setup,,,,,,,,,,
Map Feature = MF ; Map Comment = MC These follow if they exist
Track File = TF These follow if they exist
Moving Map Parameters = MM? These follow if they exist
MM0,Yes
MMPNUM,4
MMPXY,1,0,0
MMPXY,2,4140,0
MMPXY,3,4140,5051
MMPXY,4,0,5051
MMPLL,1, 159.980073, 54.682686
MMPLL,2, 160.519347, 54.683586
MMPLL,3, 160.518973, 54.300585
MMPLL,4, 159.979699, 54.299686
MM1B,8.444497
MOP,Map Open Position,0,0
IWH,Map Image Width/Height,4140,5051
