OziExplorer Map Data File Version 2.2
N-57-067.jpg
N-57-067.jpg
1 ,Map Code,
Pulkovo 1942 (1),, 0.0000, 0.0000,WGS 84
Reserved 1
Reserved 2
Magnetic Variation,,,E
Map Projection,Transverse Mercator,PolyCal,Yes,AutoCalOnly,No,BSBUseWPX,No
Point01,xy, 139, 219,in, deg, 54, 20.0000,N, 159, 0.0000,E, grid, , , ,N
Point02,xy, 2066, 223,in, deg, 54, 20.0000,N, 159, 15.0000,E, grid, , , ,N
Point03,xy, 3990, 216,in, deg, 54, 20.0000,N, 159, 30.0000,E, grid, , , ,N
Point04,xy, 139, 2416,in, deg, 54, 10.0000,N, 159, 0.0000,E, grid, , , ,N
Point05,xy, 2074, 2417,in, deg, 54, 10.0000,N, 159, 15.0000,E, grid, , , ,N
Point06,xy, 4006, 2413,in, deg, 54, 10.0000,N, 159, 30.0000,E, grid, , , ,N
Point07,xy, 141, 4613,in, deg, 54, 0.0000,N, 159, 0.0000,E, grid, , , ,N
Point08,xy, 2081, 4615,in, deg, 54, 0.0000,N, 159, 15.0000,E, grid, , , ,N
Point09,xy, 4022, 4608,in, deg, 54, 0.0000,N, 159, 30.0000,E, grid, , , ,N
Point10,xy, , ,in, deg, , ,N, , ,W, grid, , , ,N
Point11,xy, , ,in, deg, , ,N, , ,W, grid, , , ,N
Point12,xy, , ,in, deg, , ,N, , ,W, grid, , , ,N
Point13,xy, , ,in, deg, , ,N, , ,W, grid, , , ,N
Point14,xy, , ,in, deg, , ,N, , ,W, grid, , , ,N
Point15,xy, , ,in, deg, , ,N, , ,W, grid, , , ,N
Point16,xy, , ,in, deg, , ,N, , ,W, grid, , , ,N
Point17,xy, , ,in, deg, , ,N, , ,W, grid, , , ,N
Point18,xy, , ,in, deg, , ,N, , ,W, grid, , , ,N
Point19,xy, , ,in, deg, , ,N, , ,W, grid, , , ,N
Point20,xy, , ,in, deg, , ,N, , ,W, grid, , , ,N
Point21,xy, , ,in, deg, , ,N, , ,W, grid, , , ,N
Point22,xy, , ,in, deg, , ,N, , ,W, grid, , , ,N
Point23,xy, , ,in, deg, , ,N, , ,W, grid, , , ,N
Point24,xy, , ,in, deg, , ,N, , ,W, grid, , , ,N
Point25,xy, , ,in, deg, , ,N, , ,W, grid, , , ,N
Point26,xy, , ,in, deg, , ,N, , ,W, grid, , , ,N
Point27,xy, , ,in, deg, , ,N, , ,W, grid, , , ,N
Point28,xy, , ,in, deg, , ,N, , ,W, grid, , , ,N
Point29,xy, , ,in, deg, , ,N, , ,W, grid, , , ,N
Point30,xy, , ,in, deg, , ,N, , ,W, grid, , , ,N
Projection Setup, 0.000000000, 159.000000000, 1.000000000, 27500000.00, 0.00,,,,,
Map Feature = MF ; Map Comment = MC These follow if they exist
Track File = TF These follow if they exist
Moving Map Parameters = MM? These follow if they exist
MM0,Yes
MMPNUM,4
MMPXY,1,137,216
MMPXY,2,3994,213
MMPXY,3,4025,4611
MMPXY,4,139,4613
MMPLL,1, 158.999732, 54.333582
MMPLL,2, 159.500473, 54.333606
MMPLL,3, 159.500421, 53.999792
MMPLL,4, 158.999822, 53.999995
MM1B,8.443602
Other Grid Setup
GRGRID,No,2 Km,No,16711680,255,2 Km,0,16777215,8,0,Yes,Yes,No,x
MOP,Map Open Position,0,0
IWH,Map Image Width/Height,4162,5043
