OziExplorer Map Data File Version 2.2
N-57-069.jpg
N-57-069.jpg
1 ,Map Code,
Pulkovo 1942 (1),WGS 84, 0.0000, 0.0000,WGS 84
Reserved 1
Reserved 2
Magnetic Variation,,,E
Map Projection,Transverse Mercator,PolyCal,No,AutoCalOnly,No,BSBUseWPX,No
Point01,xy, 237, 314,in, deg, 54, 20.0000,N, 160, 0.0000,E, grid, , , ,N
Point02,xy, 4085, 304,in, deg, 54, 20.0000,N, 160, 30.0000,E, grid, , , ,N
Point03,xy, 4125, 4687,in, deg, 54, 0.0000,N, 160, 30.0000,E, grid, , , ,N
Point04,xy, 243, 4699,in, deg, 54, 0.0000,N, 160, 0.0000,E, grid, , , ,N
Point05,xy, 2171, 2507,in, deg, 54, 10.0000,N, 160, 15.0000,E, grid, , , ,N
Point06,xy, 2160, 315,in, deg, 54, 20.0000,N, 160, 15.0000,E, grid, , , ,N
Point07,xy, 239, 2511,in, deg, 54, 10.0000,N, 160, 0.0000,E, grid, , , ,N
Point08,xy, 4104, 2498,in, deg, 54, 10.0000,N, 160, 30.0000,E, grid, , , ,N
Point09,xy, 2184, 4698,in, deg, 54, 0.0000,N, 160, 15.0000,E, grid, , , ,N
Point10,xy, , ,in, deg, , ,N, , ,W, grid, , , ,N
Point11,xy, , ,in, deg, , ,N, , ,W, grid, , , ,N
Point12,xy, , ,in, deg, , ,N, , ,W, grid, , , ,N
Point13,xy, , ,in, deg, , ,N, , ,W, grid, , , ,N
Point14,xy, , ,in, deg, , ,N, , ,W, grid, , , ,N
Point15,xy, , ,in, deg, , ,N, , ,W, grid, , , ,N
Point16,xy, , ,in, deg, , ,N, , ,W, grid, , , ,N
Point17,xy, , ,in, deg, , ,N, , ,W, grid, , , ,N
Point18,xy, , ,in, deg, , ,N, , ,W, grid, , , ,N
Point19,xy, , ,in, deg, , ,N, , ,W, grid, , , ,N
Point20,xy, , ,in, deg, , ,N, , ,W, grid, , , ,N
Point21,xy, , ,in, deg, , ,N, , ,W, grid, , , ,N
Point22,xy, , ,in, deg, , ,N, , ,W, grid, , , ,N
Point23,xy, , ,in, deg, , ,N, , ,W, grid, , , ,N
Point24,xy, , ,in, deg, , ,N, , ,W, grid, , , ,N
Point25,xy, , ,in, deg, , ,N, , ,W, grid, , , ,N
Point26,xy, , ,in, deg, , ,N, , ,W, grid, , , ,N
Point27,xy, , ,in, deg, , ,N, , ,W, grid, , , ,N
Point28,xy, , ,in, deg, , ,N, , ,W, grid, , , ,N
Point29,xy, , ,in, deg, , ,N, , ,W, grid, , , ,N
Point30,xy, , ,in, deg, , ,N, , ,W, grid, , , ,N
Projection Setup, 0.000000000, 159.000000000, 1.000000000, 27500000.00, 0.00,,,,,
Map Feature = MF ; Map Comment = MC These follow if they exist
Track File = TF These follow if they exist
Moving Map Parameters = MM? These follow if they exist
MM0,Yes
MMPNUM,4
MMPXY,1,235,314
MMPXY,2,4087,303
MMPXY,3,4125,4689
MMPXY,4,241,4700
MMPLL,1, 159.999924, 54.333529
MMPLL,2, 160.500255, 54.333470
MMPLL,3, 160.500138, 53.999966
MMPLL,4, 159.999692, 54.000010
MM1B,8.445765
Other Grid Setup
GRGRID,No,2 Km,No,16711680,255,2 Km,0,16777215,8,0,Yes,Yes,No,x
MOP,Map Open Position,0,0
IWH,Map Image Width/Height,4323,5184
