OziExplorer Map Data File Version 2.2
Created by SAS.Planet
KamchSat.jpg
1 ,Map Code,
WGS 84,, 0.0000, 0.0000,WGS 84
Reserved 1
Reserved 2
Magnetic Variation,,,E
Map Projection,Mercator,PolyCal,No,AutoCalOnly,No,BSBUseWPX,No
Point01,xy, 0, 0,in, deg, 53, 32.5836959293507,N, 158, 19.8453140258789,E, grid, , , ,N
Point02,xy, 8817, 8337,in, deg, 53, 6.94305686921041,N, 159, 5.25146484375,E, grid, , , ,N
Point03,xy, 0, 8337,in, deg, 53, 6.94305686921041,N, 158, 19.8453140258789,E, grid, , , ,N
Point04,xy, 8817, 0,in, deg, 53, 32.5836959293507,N, 159, 5.25146484375,E, grid, , , ,N
Point05,xy, 4408, 4168,in, deg, 53, 19.7939447761247,N, 158, 42.5509643554688,E, grid, , , ,N
Point06,xy, 4408, 0,in, deg, 53, 32.5836959293507,N, 158, 42.5509643554688,E, grid, , , ,N
Point07,xy, 0, 4168,in, deg, 53, 19.7939447761247,N, 158, 19.8453140258789,E, grid, , , ,N
Point08,xy, 8817, 4168,in, deg, 53, 19.7939447761247,N, 159, 5.25146484375,E, grid, , , ,N
Point09,xy, 4408, 8337,in, deg, 53, 6.94305686921041,N, 158, 42.5509643554688,E, grid, , , ,N
Point10,xy, , ,in, deg, , ,N, , ,W, grid, , , ,N
Point11,xy, , ,in, deg, , ,N, , ,W, grid, , , ,N
Point12,xy, , ,in, deg, , ,N, , ,W, grid, , , ,N
Point13,xy, , ,in, deg, , ,N, , ,W, grid, , , ,N
Point14,xy, , ,in, deg, , ,N, , ,W, grid, , , ,N
Point15,xy, , ,in, deg, , ,N, , ,W, grid, , , ,N
Point16,xy, , ,in, deg, , ,N, , ,W, grid, , , ,N
Point17,xy, , ,in, deg, , ,N, , ,W, grid, , , ,N
Point18,xy, , ,in, deg, , ,N, , ,W, grid, , , ,N
Point19,xy, , ,in, deg, , ,N, , ,W, grid, , , ,N
Point20,xy, , ,in, deg, , ,N, , ,W, grid, , , ,N
Point21,xy, , ,in, deg, , ,N, , ,W, grid, , , ,N
Point22,xy, , ,in, deg, , ,N, , ,W, grid, , , ,N
Point23,xy, , ,in, deg, , ,N, , ,W, grid, , , ,N
Point24,xy, , ,in, deg, , ,N, , ,W, grid, , , ,N
Point25,xy, , ,in, deg, , ,N, , ,W, grid, , , ,N
Point26,xy, , ,in, deg, , ,N, , ,W, grid, , , ,N
Point27,xy, , ,in, deg, , ,N, , ,W, grid, , , ,N
Point28,xy, , ,in, deg, , ,N, , ,W, grid, , , ,N
Point29,xy, , ,in, deg, , ,N, , ,W, grid, , , ,N
Point30,xy, , ,in, deg, , ,N, , ,W, grid, , , ,N
Projection Setup,,,,,,,,,,
Map Feature = MF ; Map Comment = MC These follow if they exist
Track File = TF These follow if they exist
Moving Map Parameters = MM? These follow if they exist
MM0,Yes
MMPNUM,4
MMPXY,1,0,0
MMPXY,2,8817,0
MMPXY,3,8817,8337
MMPXY,4,0,8337
MMPLL,1, 158.330755233765, 53.5430615988225
MMPLL,2, 159.087524414063, 53.5430615988225
MMPLL,3, 159.087524414063, 53.1157176144868
MMPLL,4, 158.330755233765, 53.1157176144868
MM1B,5.70608788245407
MOP,Map Open Position,0,0
IWH,Map Image Width/Height,8817,8337
