OziExplorer Map Data File Version 2.2
n-57-102
E:\Проекты походов\_2 Сахалин-Курилы\_Проект Парамушир\Камчатка\100000\n-57-102.jpg
1 ,Map Code,
Pulkovo 1942 (1),, 0.0000, 0.0000,WGS 84
Reserved 1
Reserved 2
Magnetic Variation,,,E
Map Projection,Transverse Mercator,PolyCal,Yes,AutoCalOnly,No,BSBUseWPX,No
Point01,xy, 184, 296,in, deg, 53, 20.0000,N, 158, 30.0000,E, grid, , , ,N
Point02,xy, 2161, 292,in, deg, 53, 20.0000,N, 158, 45.0000,E, grid, , , ,N
Point03,xy, 4130, 277,in, deg, 53, 20.0000,N, 159, 0.0000,E, grid, , , ,N
Point04,xy, 189, 2499,in, deg, 53, 10.0000,N, 158, 30.0000,E, grid, , , ,N
Point05,xy, 2173, 2493,in, deg, 53, 10.0000,N, 158, 45.0000,E, grid, , , ,N
Point06,xy, 4151, 2477,in, deg, 53, 10.0000,N, 159, 0.0000,E, grid, , , ,N
Point07,xy, 194, 4701,in, deg, 53, 0.0000,N, 158, 30.0000,E, grid, , , ,N
Point08,xy, 2186, 4695,in, deg, 53, 0.0000,N, 158, 45.0000,E, grid, , , ,N
Point09,xy, 4173, 4679,in, deg, 53, 0.0000,N, 159, 0.0000,E, grid, , , ,N
Point10,xy, , ,in, deg, , ,N, , ,W, grid, , , ,N
Point11,xy, , ,in, deg, , ,N, , ,W, grid, , , ,N
Point12,xy, , ,in, deg, , ,N, , ,W, grid, , , ,N
Point13,xy, , ,in, deg, , ,N, , ,W, grid, , , ,N
Point14,xy, , ,in, deg, , ,N, , ,W, grid, , , ,N
Point15,xy, , ,in, deg, , ,N, , ,W, grid, , , ,N
Point16,xy, , ,in, deg, , ,N, , ,W, grid, , , ,N
Point17,xy, , ,in, deg, , ,N, , ,W, grid, , , ,N
Point18,xy, , ,in, deg, , ,N, , ,W, grid, , , ,N
Point19,xy, , ,in, deg, , ,N, , ,W, grid, , , ,N
Point20,xy, , ,in, deg, , ,N, , ,W, grid, , , ,N
Point21,xy, , ,in, deg, , ,N, , ,W, grid, , , ,N
Point22,xy, , ,in, deg, , ,N, , ,W, grid, , , ,N
Point23,xy, , ,in, deg, , ,N, , ,W, grid, , , ,N
Point24,xy, , ,in, deg, , ,N, , ,W, grid, , , ,N
Point25,xy, , ,in, deg, , ,N, , ,W, grid, , , ,N
Point26,xy, , ,in, deg, , ,N, , ,W, grid, , , ,N
Point27,xy, , ,in, deg, , ,N, , ,W, grid, , , ,N
Point28,xy, , ,in, deg, , ,N, , ,W, grid, , , ,N
Point29,xy, , ,in, deg, , ,N, , ,W, grid, , , ,N
Point30,xy, , ,in, deg, , ,N, , ,W, grid, , , ,N
Projection Setup, 0.000000000, 159.000000000, 1.000000000, 27500000.00, 0.00,,,,,
Map Feature = MF ; Map Comment = MC These follow if they exist
Track File = TF These follow if they exist
Moving Map Parameters = MM? These follow if they exist
MM0,Yes
MMPNUM,4
MMPXY,1,180,295
MMPXY,2,4134,275
MMPXY,3,4173,4676
MMPXY,4,194,4701
MMPLL,1, 158.499455, 53.333435
MMPLL,2, 159.000492, 53.333469
MMPLL,3, 159.000050, 53.000201
MMPLL,4, 158.500025, 53.000012
MM1B,8.436658
Other Grid Setup
GRGRID,No,2 Km,No,16711680,255,2 Km,0,16777215,8,0,Yes,Yes,No,x
MOP,Map Open Position,0,0
IWH,Map Image Width/Height,4321,5205
