OziExplorer Map Data File Version 2.2
Created by SAS.Planet
ParamSat.jpg
1 ,Map Code,
WGS 84,, 0.0000, 0.0000,WGS 84
Reserved 1
Reserved 2
Magnetic Variation,,,E
Map Projection,Mercator,PolyCal,No,AutoCalOnly,No,BSBUseWPX,No
Point01,xy, 0, 0,in, deg, 50, 57.1941808993695,N, 155, 8.60595703125,E, grid, , , ,N
Point02,xy, 8208, 9088,in, deg, 49, 57.6033237480254,N, 156, 33.145751953125,E, grid, , , ,N
Point03,xy, 0, 9088,in, deg, 49, 57.6033237480254,N, 155, 8.60595703125,E, grid, , , ,N
Point04,xy, 8208, 0,in, deg, 50, 57.1941808993695,N, 156, 33.145751953125,E, grid, , , ,N
Point05,xy, 4104, 4544,in, deg, 50, 27.5551560315749,N, 155, 50.8758544921875,E, grid, , , ,N
Point06,xy, 4104, 0,in, deg, 50, 57.1941808993695,N, 155, 50.8758544921875,E, grid, , , ,N
Point07,xy, 0, 4544,in, deg, 50, 27.5551560315749,N, 155, 8.60595703125,E, grid, , , ,N
Point08,xy, 8208, 4544,in, deg, 50, 27.5551560315749,N, 156, 33.145751953125,E, grid, , , ,N
Point09,xy, 4104, 9088,in, deg, 49, 57.6033237480254,N, 155, 50.8758544921875,E, grid, , , ,N
Point10,xy, , ,in, deg, , ,N, , ,W, grid, , , ,N
Point11,xy, , ,in, deg, , ,N, , ,W, grid, , , ,N
Point12,xy, , ,in, deg, , ,N, , ,W, grid, , , ,N
Point13,xy, , ,in, deg, , ,N, , ,W, grid, , , ,N
Point14,xy, , ,in, deg, , ,N, , ,W, grid, , , ,N
Point15,xy, , ,in, deg, , ,N, , ,W, grid, , , ,N
Point16,xy, , ,in, deg, , ,N, , ,W, grid, , , ,N
Point17,xy, , ,in, deg, , ,N, , ,W, grid, , , ,N
Point18,xy, , ,in, deg, , ,N, , ,W, grid, , , ,N
Point19,xy, , ,in, deg, , ,N, , ,W, grid, , , ,N
Point20,xy, , ,in, deg, , ,N, , ,W, grid, , , ,N
Point21,xy, , ,in, deg, , ,N, , ,W, grid, , , ,N
Point22,xy, , ,in, deg, , ,N, , ,W, grid, , , ,N
Point23,xy, , ,in, deg, , ,N, , ,W, grid, , , ,N
Point24,xy, , ,in, deg, , ,N, , ,W, grid, , , ,N
Point25,xy, , ,in, deg, , ,N, , ,W, grid, , , ,N
Point26,xy, , ,in, deg, , ,N, , ,W, grid, , , ,N
Point27,xy, , ,in, deg, , ,N, , ,W, grid, , , ,N
Point28,xy, , ,in, deg, , ,N, , ,W, grid, , , ,N
Point29,xy, , ,in, deg, , ,N, , ,W, grid, , , ,N
Point30,xy, , ,in, deg, , ,N, , ,W, grid, , , ,N
Projection Setup,,,,,,,,,,
Map Feature = MF ; Map Comment = MC These follow if they exist
Track File = TF These follow if they exist
Moving Map Parameters = MM? These follow if they exist
MM0,Yes
MMPNUM,4
MMPXY,1,0,0
MMPXY,2,8208,0
MMPXY,3,8208,9088
MMPXY,4,0,9088
MMPLL,1, 155.143432617188, 50.9532363483228
MMPLL,2, 156.552429199219, 50.9532363483228
MMPLL,3, 156.552429199219, 49.9600553958004
MMPLL,4, 155.143432617188, 49.9600553958004
MM1B,12.1654655710135
MOP,Map Open Position,0,0
IWH,Map Image Width/Height,8208,9088
