OziExplorer Map Data File Version 2.2
Oman2011.jpg
Oman2011.jpg
1 ,Map Code,
WGS 84,, 0.0000, 0.0000,WGS 84
Reserved 1
Reserved 2
Magnetic Variation,,,E
Map Projection,Mercator,PolyCal,No,AutoCalOnly,No,BSBUseWPX,No
Point01,xy, 0, 0,in, deg, 24, 0.379571925067523,N, 52, 11.7626953125,E, grid, , , ,N
Point02,xy, 5632, 5864,in, deg, 16, 27.4295277684829,N, 59, 55.8251953125,E, grid, , , ,N
Point03,xy, 0, 5864,in, deg, 16, 27.4295277684829,N, 52, 11.7626953125,E, grid, , , ,N
Point04,xy, 5632, 0,in, deg, 24, 0.379571925067523,N, 59, 55.8251953125,E, grid, , , ,N
Point05,xy, 2816, 2932,in, deg, 20, 16.6593633802273,N, 56, 3.7939453125,E, grid, , , ,N
Point06,xy, 2816, 0,in, deg, 24, 0.379571925067523,N, 56, 3.7939453125,E, grid, , , ,N
Point07,xy, 0, 2932,in, deg, 20, 16.6593633802273,N, 52, 11.7626953125,E, grid, , , ,N
Point08,xy, 5632, 2932,in, deg, 20, 16.6593633802273,N, 59, 55.8251953125,E, grid, , , ,N
Point09,xy, 2816, 5864,in, deg, 16, 27.4295277684829,N, 56, 3.7939453125,E, grid, , , ,N
Point10,xy, , ,in, deg, , ,N, , ,W, grid, , , ,N
Point11,xy, , ,in, deg, , ,N, , ,W, grid, , , ,N
Point12,xy, , ,in, deg, , ,N, , ,W, grid, , , ,N
Point13,xy, , ,in, deg, , ,N, , ,W, grid, , , ,N
Point14,xy, , ,in, deg, , ,N, , ,W, grid, , , ,N
Point15,xy, , ,in, deg, , ,N, , ,W, grid, , , ,N
Point16,xy, , ,in, deg, , ,N, , ,W, grid, , , ,N
Point17,xy, , ,in, deg, , ,N, , ,W, grid, , , ,N
Point18,xy, , ,in, deg, , ,N, , ,W, grid, , , ,N
Point19,xy, , ,in, deg, , ,N, , ,W, grid, , , ,N
Point20,xy, , ,in, deg, , ,N, , ,W, grid, , , ,N
Point21,xy, , ,in, deg, , ,N, , ,W, grid, , , ,N
Point22,xy, , ,in, deg, , ,N, , ,W, grid, , , ,N
Point23,xy, , ,in, deg, , ,N, , ,W, grid, , , ,N
Point24,xy, , ,in, deg, , ,N, , ,W, grid, , , ,N
Point25,xy, , ,in, deg, , ,N, , ,W, grid, , , ,N
Point26,xy, , ,in, deg, , ,N, , ,W, grid, , , ,N
Point27,xy, , ,in, deg, , ,N, , ,W, grid, , , ,N
Point28,xy, , ,in, deg, , ,N, , ,W, grid, , , ,N
Point29,xy, , ,in, deg, , ,N, , ,W, grid, , , ,N
Point30,xy, , ,in, deg, , ,N, , ,W, grid, , , ,N
Projection Setup,,,,,,,,,,
Map Feature = MF ; Map Comment = MC These follow if they exist
Track File = TF These follow if they exist
Moving Map Parameters = MM? These follow if they exist
MM0,Yes
MMPNUM,4
MMPXY,1,0,0
MMPXY,2,5632,0
MMPXY,3,5632,5864
MMPXY,4,0,5864
MMPLL,1, 52.196044921875, 24.0063261987511
MMPLL,2, 59.930419921875, 24.0063261987511
MMPLL,3, 59.930419921875, 16.4571587961414
MMPLL,4, 52.196044921875, 16.4571587961414
MM1B,143.399558447493
MOP,Map Open Position,0,0
IWH,Map Image Width/Height,5632,5864
