OziExplorer Map Data File Version 2.2
Singapure2014.jpg
Singapure2014.jpg
1 ,Map Code,
WGS 84,, 0.0000, 0.0000,WGS 84
Reserved 1
Reserved 2
Magnetic Variation,,,E
Map Projection,Mercator,PolyCal,No,AutoCalOnly,No,BSBUseWPX,No
Point01,xy, 0, 0,in, deg, 1, 26.5803,N, 103, 44.7471,E, grid, , , ,N
Point02,xy, 836, 0,in, deg, 1, 26.5803,N, 103, 53.3679,E, grid, , , ,N
Point03,xy, 1673, 0,in, deg, 1, 26.5803,N, 104, 1.9785,E, grid, , , ,N
Point04,xy, 0, 602,in, deg, 1, 20.3714,N, 103, 44.7471,E, grid, , , ,N
Point05,xy, 836, 602,in, deg, 1, 20.3714,N, 103, 53.3679,E, grid, , , ,N
Point06,xy, 1673, 602,in, deg, 1, 20.3714,N, 104, 1.9785,E, grid, , , ,N
Point07,xy, 0, 1205,in, deg, 1, 14.1726,N, 103, 44.7471,E, grid, , , ,N
Point08,xy, 836, 1205,in, deg, 1, 14.1726,N, 103, 53.3679,E, grid, , , ,N
Point09,xy, 1673, 1205,in, deg, 1, 14.1726,N, 104, 1.9785,E, grid, , , ,N
Point10,xy, , ,in, deg, , ,N, , ,W, grid, , , ,N
Point11,xy, , ,in, deg, , ,N, , ,W, grid, , , ,N
Point12,xy, , ,in, deg, , ,N, , ,W, grid, , , ,N
Point13,xy, , ,in, deg, , ,N, , ,W, grid, , , ,N
Point14,xy, , ,in, deg, , ,N, , ,W, grid, , , ,N
Point15,xy, , ,in, deg, , ,N, , ,W, grid, , , ,N
Point16,xy, , ,in, deg, , ,N, , ,W, grid, , , ,N
Point17,xy, , ,in, deg, , ,N, , ,W, grid, , , ,N
Point18,xy, , ,in, deg, , ,N, , ,W, grid, , , ,N
Point19,xy, , ,in, deg, , ,N, , ,W, grid, , , ,N
Point20,xy, , ,in, deg, , ,N, , ,W, grid, , , ,N
Point21,xy, , ,in, deg, , ,N, , ,W, grid, , , ,N
Point22,xy, , ,in, deg, , ,N, , ,W, grid, , , ,N
Point23,xy, , ,in, deg, , ,N, , ,W, grid, , , ,N
Point24,xy, , ,in, deg, , ,N, , ,W, grid, , , ,N
Point25,xy, , ,in, deg, , ,N, , ,W, grid, , , ,N
Point26,xy, , ,in, deg, , ,N, , ,W, grid, , , ,N
Point27,xy, , ,in, deg, , ,N, , ,W, grid, , , ,N
Point28,xy, , ,in, deg, , ,N, , ,W, grid, , , ,N
Point29,xy, , ,in, deg, , ,N, , ,W, grid, , , ,N
Point30,xy, , ,in, deg, , ,N, , ,W, grid, , , ,N
Projection Setup,,,,,,,,,,
Map Feature = MF ; Map Comment = MC These follow if they exist
Track File = TF These follow if they exist
Moving Map Parameters = MM? These follow if they exist
MM0,Yes
MMPNUM,4
MMPXY,1,0,0
MMPXY,2,1673,0
MMPXY,3,1673,1205
MMPXY,4,0,1205
MMPLL,1, 103.745785, 1.443005
MMPLL,2, 104.032974, 1.443005
MMPLL,3, 104.032974, 1.236209
MMPLL,4, 103.745785, 1.236209
MM1B,19.104035
MOP,Map Open Position,0,0
IWH,Map Image Width/Height,1673,1205
